Workbook

Sheet Scielta delle aziende
A1: #VALUE!
A2: #VALUE!
A3: #VALUE!
A4: #VALUE!
A5: #VALUE!
A6: #VALUE!
A7: #VALUE!

Sheet Recupero dei valori di chiusura
A5: Data Inizio | C5: 45566 | E5: Data Fine | F5: 45596
C7: #VALUE! | E7: #VALUE! | G7: #VALUE! | I7: #VALUE! | K7: #VALUE! | M7: #VALUE! | O7: #VALUE!
C8: {=_xlfn.STOCKHISTORY(C7,$C$5,$F$5)} -> Data | D8: Chiusura | E8: {=_xlfn.STOCKHISTORY(E7,$C$5,$F$5)} -> Data | F8: Chiusura | G8: {=_xlfn.STOCKHISTORY(G7,$C$5,$F$5)} -> Data | H8: Chiusura | I8: {=_xlfn.STOCKHISTORY(I7,$C$5,$F$5)} -> Data | J8: Chiusura | K8: {=_xlfn.STOCKHISTORY(K7,$C$5,$F$5)} -> Data | L8: Chiusura | M8: {=_xlfn.STOCKHISTORY(M7,$C$5,$F$5)} -> Data | N8: Chiusura | O8: {=_xlfn.STOCKHISTORY(O7,$C$5,$F$5)} -> Data | P8: Chiusura
C9: 45566 | D9: 13.89 | E9: 45566 | F9: 38.28 | G9: 45566 | H9: 7.221 | I9: 45566 | J9: 51.1 | K9: 45566 | L9: 5.342 | M9: 45566 | N9: 413.9 | O9: 45566 | P9: 3.7355
C10: 45567 | D10: 14.118 | E10: 45567 | F10: 37.69 | G10: 45567 | H10: 7.112 | I10: 45567 | J10: 49.94 | K10: 45567 | L10: 5.212 | M10: 45567 | N10: 415 | O10: 45567 | P10: 3.716
C11: 45568 | D11: 14.106 | E11: 45568 | F11: 37.7 | G11: 45568 | H11: 6.984 | I11: 45568 | J11: 49.5 | K11: 45568 | L11: 5.19 | M11: 45568 | N11: 406.5 | O11: 45568 | P11: 3.686
C12: 45569 | D12: 14.324 | E12: 45569 | F12: 38.82 | G12: 45569 | H12: 6.955 | I12: 45569 | J12: 51.85 | K12: 45569 | L12: 5.288 | M12: 45569 | N12: 409.6 | O12: 45569 | P12: 3.7635
C13: 45572 | D13: 14.504 | E13: 45572 | F13: 39.37 | G13: 45572 | H13: 6.94 | I13: 45572 | J13: 53 | K13: 45572 | L13: 5.324 | M13: 45572 | N13: 410.1 | O13: 45572 | P13: 3.803
C14: 45573 | D14: 14.194 | E14: 45573 | F14: 39.205 | G14: 45573 | H14: 6.977 | I14: 45573 | J14: 52.1 | K14: 45573 | L14: 5.28 | M14: 45573 | N14: 417 | O14: 45573 | P14: 3.786
C15: 45574 | D15: 14.166 | E15: 45574 | F15: 39.375 | G15: 45574 | H15: 7.001 | I15: 45574 | J15: 52.75 | K15: 45574 | L15: 5.368 | M15: 45574 | N15: 419.3 | O15: 45574 | P15: 3.808
C16: 45575 | D16: 14.262 | E16: 45575 | F16: 40 | G16: 45575 | H16: 6.982 | I16: 45575 | J16: 52.1 | K16: 45575 | L16: 5.322 | M16: 45575 | N16: 416 | O16: 45575 | P16: 3.85
C17: 45576 | D17: 14.322 | E17: 45576 | F17: 40.08 | G17: 45576 | H17: 7.066 | I17: 45576 | J17: 52.55 | K17: 45576 | L17: 5.322 | M17: 45576 | N17: 426.8 | O17: 45576 | P17: 3.891
C18: 45579 | D18: 14.354 | E18: 45579 | F18: 40.23 | G18: 45579 | H18: 7.176 | I18: 45579 | J18: 54.1 | K18: 45579 | L18: 5.366 | M18: 45579 | N18: 437.2 | O18: 45579 | P18: 3.9225
C19: 45580 | D19: 13.964 | E19: 45580 | F19: 40.24 | G19: 45580 | H19: 7.209 | I19: 45580 | J19: 53.4 | K19: 45580 | L19: 5.27 | M19: 45580 | N19: 435.4 | O19: 45580 | P19: 3.9305
C20: 45581 | D20: 14.036 | E20: 45581 | F20: 40.305 | G20: 45581 | H20: 7.285 | I20: 45581 | J20: 53.55 | K20: 45581 | L20: 5.332 | M20: 45581 | N20: 433.9 | O20: 45581 | P20: 3.92
... C31: 45596 | D31: 14.012 | E31: 45596 | F31: 40.68 | G31: 45596 | H31: 6.97 | I31: 45596 | J31: 52.1 | K31: 45596 | L31: 5.026 | M31: 45596 | N31: 439.8 | O31: 45596 | P31: 3.937
C33: VARIAZIONE | D33: =D31-D9 -> 0.122 | F33: =F31-F9 -> 2.4 | H33: =H31-H9 -> -0.251 | J33: =J31-J9 -> 1 | L33: =L31-L9 -> -0.316 | N33: =N31-N9 -> 25.9 | P33: =P31-P9 -> 0.2015
C34: IN PERCENTUALE | D34: =D33/D31 -> 0.0087068227 | F34: =F33/F31 -> 0.05899705 | H34: =H33/H31 -> -0.036011478 | J34: =J33/J31 -> 0.019193858 | L34: =L33/L31 -> -0.06287306 | N34: =N33/N31 -> 0.058890405 | P34: =P33/P31 -> 0.051181102

Sheet Visualizzazione dei dati
C2: Andamento portafoglio azioni
C3: Ottobre 2024
C5: ENI | F5: ='Recupero dei valori di chiusura'!D31 -> 14.012
F6: ='Recupero dei valori di chiusura'!D34 -> 0.0087068227
F8: ='Recupero dei valori di chiusura'!H31 -> 6.97
C9: ENEL | F9: ='Recupero dei valori di chiusura'!H34 -> -0.036011478
C12: UNICREDIT | F12: ='Recupero dei valori di chiusura'!F31 -> 40.68
F13: ='Recupero dei valori di chiusura'!F34 -> 0.05899705
C15: RECORDATI | F15: ='Recupero dei valori di chiusura'!J31 -> 52.1
F16: ='Recupero dei valori di chiusura'!J34 -> 0.019193858
C18: PIRELLI | F18: ='Recupero dei valori di chiusura'!L31 -> 5.026
F19: ='Recupero dei valori di chiusura'!L34 -> -0.06287306
C21: INTESA SAN PAOLO | F21: ='Recupero dei valori di chiusura'!P31 -> 3.937
F22: ='Recupero dei valori di chiusura'!P34 -> 0.051181102
C24: FERRARI | F24: ='Recupero dei valori di chiusura'!N31 -> 439.8
F25: ='Recupero dei valori di chiusura'!N34 -> 0.058890405
